BEGIN:VCALENDAR
VERSION:2.0
PRODID:-//Preston Caribbean Carnival - ECPv6.15.14//NONSGML v1.0//EN
CALSCALE:GREGORIAN
METHOD:PUBLISH
X-ORIGINAL-URL:https://prestoncarnival.co.uk
X-WR-CALDESC:Events for Preston Caribbean Carnival
REFRESH-INTERVAL;VALUE=DURATION:PT1H
X-Robots-Tag:noindex
X-PUBLISHED-TTL:PT1H
BEGIN:VTIMEZONE
TZID:UTC
BEGIN:STANDARD
TZOFFSETFROM:+0000
TZOFFSETTO:+0000
TZNAME:UTC
DTSTART:20250101T000000
END:STANDARD
END:VTIMEZONE
BEGIN:VEVENT
DTSTART;TZID=UTC:20260523T140000
DTEND;TZID=UTC:20260523T200000
DTSTAMP:20260421T105908
CREATED:20251005T145328Z
LAST-MODIFIED:20260407T213646Z
UID:5320-1779544800-1779566400@prestoncarnival.co.uk
SUMMARY:" ONE PARK" SKA & REGGAE Music Festival‼️‼️
DESCRIPTION:ONE PARK SKA & REGGAE FESTIVAL IS COMING TO PRESTON  \n\n\n\nThis is not just a gig… this is a full scale festival takeover \nOn Saturday 23 May\, Moor Park turns into the loudest\, happiest corner of Lancashire as ska\, reggae and Caribbean energy collide in the open air.\n\n\n Moor Park\, Preston\n 2pm to 8pm\n\n One Park Ska & Reggae Festival\n\n\nExpect a massive day packed with live music\, sound systems\, food\, bars and pure feel good vibes from start to finish \n\n\n LIVE ON STAGE\nCari Soul Vibe\nThe Parigons\nSka Face\nNatural Rhythm Ska\n\n\n SOUND SYSTEMS IN THE PARK\nLove Unlimited & Friends from London\nPhoenix from Preston\n\n\n International food and bars on site\n 4 event weekend passes available\n Hosted by Sweet T Woods Radio and Invinceable International\n\n\n EARLY BIRD MADNESS \n £13 OFF tickets\n Just £7 for the first 200 tickets\n Under 13s go FREE ( £1 booking fee only )\n£20 Weekend Wristbands now available for Entry to all 4 Events hosted by us on 23rd  24th May!!!\n\n\nThis one will sell fast and everyone will be talking about it all summer \n\n\n BOOK NOW\nhttps://www.tickettailor.com/…/prestoncaribbean…/2012415\n\n\n#OneParkFestival #SkaAndReggae #PrestonEvents #MoorParkPreston #CaribbeanVibes #SummerFestival #LiveMusicPreston 
URL:https://prestoncarnival.co.uk/event/one-park-living-legends-reggae-music-festival/
LOCATION:Moor Park\, Moor Park Ave\, Preston\, Lancashire\, PR1 6AS\, United Kingdom
ATTACH;FMTTYPE=image/jpeg:https://prestoncarnival.co.uk/wp-content/uploads/2026/04/IMG-20260307-WA0002.jpg
END:VEVENT
BEGIN:VEVENT
DTSTART;TZID=UTC:20260523T210000
DTEND;TZID=UTC:20260524T000000
DTSTAMP:20260421T105908
CREATED:20260408T094016Z
LAST-MODIFIED:20260408T094148Z
UID:5503-1779570000-1779580800@prestoncarnival.co.uk
SUMMARY:🔥"ONE PARK" OFFICIAL AFTER PARTY 🔥
DESCRIPTION:   PRESENTING….. PRESTON CARIBBEAN CARNIVAL’S OFFICIAL “ONE PARK” AFTER PARTY \n\n\n\n SATURDAY 23rd MAY 2026 \nCOME & JOINS US FOR A NIGHT TO REMEMBER!!\n WERE BRINGIN G YOU PHOENIX SOUNDS\, EVERYDAY PEOPLE & GUEST APPEARANCE BY WFL\n\nCHEWS YARD FROM 9pm SEE YOU THERE!!!\n\n\nEntry Included In Weekend Wristbands with Access To All 4 Official Carnival Events & Can Be Purchased Here on Ticket Tailor For Just £20https://www.tickettailor.com/events/prestoncaribbeancarnival\n\nC & Join Us @ 103 – 111 Market Street W\, Preston\, PR1 2HB See You There
URL:https://prestoncarnival.co.uk/event/%f0%9f%94%a5one-park-official-after-party-%f0%9f%94%a5/
LOCATION:Chews Yard\, 103-111 Market Street\, Preston\, PR1 2HB\, United Kingdom
ATTACH;FMTTYPE=image/jpeg:https://prestoncarnival.co.uk/wp-content/uploads/2026/04/IMG-20260307-WA0003.jpg
END:VEVENT
END:VCALENDAR