BEGIN:VCALENDAR
VERSION:2.0
PRODID:-//Preston Caribbean Carnival - ECPv6.15.14//NONSGML v1.0//EN
CALSCALE:GREGORIAN
METHOD:PUBLISH
X-ORIGINAL-URL:https://prestoncarnival.co.uk
X-WR-CALDESC:Events for Preston Caribbean Carnival
REFRESH-INTERVAL;VALUE=DURATION:PT1H
X-Robots-Tag:noindex
X-PUBLISHED-TTL:PT1H
BEGIN:VTIMEZONE
TZID:UTC
BEGIN:STANDARD
TZOFFSETFROM:+0000
TZOFFSETTO:+0000
TZNAME:UTC
DTSTART:20250101T000000
END:STANDARD
END:VTIMEZONE
BEGIN:VEVENT
DTSTART;TZID=UTC:20260524T130000
DTEND;TZID=UTC:20260524T193000
DTSTAMP:20260421T123630
CREATED:20251005T142734Z
LAST-MODIFIED:20260411T012609Z
UID:5317-1779627600-1779651000@prestoncarnival.co.uk
SUMMARY:🔥🌴 Preston Caribbean Carnival 2026!! 🔥🌴
DESCRIPTION:☆☆ Preston Caribbean Carnival Day 2026 ☆☆SUNDAY 24th MAY 2026!!!@ Moor Park\, Preston PR1 6AS Here’s the details you’ve all been waiting for!! The Parade Will Be Leaving Moor Park Avenue @ 1pm onto….▪︎ Deepdale Rd▪︎ Meadow Street▪︎ St Paul’s Rd▪︎ Sedwick Street▪︎ North Rd▪︎ Garstang Rd▪︎ Turning back onto Moor Park Ave☆☆ Park Event Opens at 1:15pm☆☆\n\nWith Our Hosts International DJ’s Sweet-T & Invinceable\, \nLive Stage Acts Including Skinny Banton & Carisoul Vibes & Our Fabulous Troupe Stage Performances after the parade\, \nStalls\, Caribbean Food\, 2 Bars & So much more Going On!!\n£2 Entry Fee or Purchase Your Wristbands On Ticket Tailor For Access To All 4 Official Events Including Both Afterparties At Chews Yard On Saturday 23rd & Sunday 24th May 2026!! Don’t forget to put it in your calendars we can’t wait to see you for another year of Caribbean Celebrations!!Although we want everyone to have a fantastic day we also have some rules so please be sensible and stick to them so we can make this a day to remember for all!!!\n▪︎ Fee on Entry for over 12’s ( Under 12’s Free with an Adult)▪︎ Bags Searched on Entry▪︎ Security & CCTV In Operation▪︎ U16’s must be accompanied by an Adult▪︎ No Glass Containers▪︎ No Bicycles▪︎ No Dogs (Except for Service Dogs)▪︎ No Alcohol unless purchased from inside the park only▪︎ No legal Highs You Won’t Want to Miss This spread the word cos were coming to Mash up de road!! 
URL:https://prestoncarnival.co.uk/event/preston-caribbean-carnival-2026/
LOCATION:Moor Park\, Moor Park Ave\, Preston\, Lancashire\, PR1 6AS\, United Kingdom
ATTACH;FMTTYPE=image/jpeg:https://prestoncarnival.co.uk/wp-content/uploads/2026/04/Screenshot_20260411_020420_WhatsApp.jpg
END:VEVENT
BEGIN:VEVENT
DTSTART;TZID=UTC:20260524T210000
DTEND;TZID=UTC:20260525T010000
DTSTAMP:20260421T123630
CREATED:20260408T092354Z
LAST-MODIFIED:20260408T092438Z
UID:5497-1779656400-1779670800@prestoncarnival.co.uk
SUMMARY:🔥PRESTON CARIBBEAN CARNIVAL'S OFFICIAL AFTER PARTY!!🔥
DESCRIPTION: PRESENTING….. PRESTON CARIBBEAN CARNIVAL’S OFFICIAL AFTER PARTY \n Powered By WORLD FETE LIVE \n\n SUNDAY 25th MAY 2026 ~ 9pm till Late ~ @ Chews Yard!!\n\n Featuring International DJ’s……. Dj Toro\, Invinceable International & Sweet-T….\n\n We’re Gonna Mash Up De Yard Straight From De Park Cos De Pardy Don’t Stop There & Its Going To Be Epic Come & Join Us For a Night To Remember\n\n Entry Included In Weekend Wristbands with Access To All 4 Official Carnival Events & Can Be Purchased Here on Ticket Tailor For Just £20https://www.tickettailor.com/events/prestoncaribbeancarnival\n\nCome & Join Us @ 103 – 111 Market Street W\, Preston\, PR1 2HB See You There  
URL:https://prestoncarnival.co.uk/event/%f0%9f%94%a5preston-caribbean-carnivals-official-after-party%f0%9f%94%a5/
LOCATION:Chews Yard\, 103-111 Market Street\, Preston\, PR1 2HB\, United Kingdom
ATTACH;FMTTYPE=image/jpeg:https://prestoncarnival.co.uk/wp-content/uploads/2026/04/IMG-20260328-WA0000.jpg
END:VEVENT
END:VCALENDAR